BEGIN:VCALENDAR
VERSION:2.0
PRODID:-//swoogo.com//NONSGML kigkonsult.se iCalcreator 2.41.90//
CALSCALE:GREGORIAN
UID:31363438-3164-4962-a532-393061626234
BEGIN:VEVENT
UID:80d17af88e4733e3723ee73ecf68f3cfd0fe38bf@swoogo.com
DTSTAMP:20260421T185155Z
DESCRIPTION:Brought to you by _Global Government Forum_ and co-hosted by HM
 G and the Government Digital Service\, PUBLIC SERVICE DATA.AI is a free-to
 -attend annual event for all civil servants responsible for advancing and 
 refining the use of data and Ai across government\, with the ultimate aim 
 of improving public services for all.\n\nGOVERNMENTS ACROSS THE GLOBE HAVE
  IDENTIFIED IMPROVED USE OF DATA AS KEY TO BETTER PUBLIC SERVICES.\nThe UK
  government’s Declaration on Government Reform – which aims to harness inn
 ovations form the coronavirus pandemic into day-to-day policy making – hig
 hlighted the need to “put data at the heart of our decision-making\, learn
 ing explicitly from the approach we have taken in responding to COVID-19”.
 \n\nPUBLIC SERVICE DATA.AI supports and strengthens the widespread communi
 ty within government that is faced with implementing these data-driven inn
 ovations. Through interactive content sessions\, roundtable discussions an
 d focused networking\, attendees benefit from cross-departmental insights\
 , lessons learnt from real-life case studies and shared experiences of pee
 rs facing similar challenges. We look forward to welcoming you to the even
 t.
DTSTART:20261015T073000Z
DTEND:20261015T173000Z
LAST-MODIFIED:20260421T185155Z
LOCATION:Business Design Centre\, 52 Upper St\, London Greater London N1 0Q
 H\, United Kingdom
SEQUENCE:0
STATUS:CONFIRMED
SUMMARY:Public Service Data.AI 2026
TRANSP:OPAQUE
X-ALT-DESC;FMTTYPE=text/html:<p><small>Brought to you by <em>Global Governm
 ent Forum</em> and co-hosted by HMG and the Government Digital Service\, <
 strong>Public Service Data.AI </strong>is a free-to-attend annual event fo
 r all civil servants responsible for advancing and refining the use of dat
 a and Ai across government\, with the ultimate aim of improving public ser
 vices for all.</small></p>\n\n<p><small><strong>Governments across the glo
 be have identified improved use of data as key to better public services.<
 /strong></small><br />\n<small>The UK government’s Declaration on Governme
 nt Reform – which aims to harness innovations form the coronavirus pandemi
 c into day-to-day policy making – highlighted the need to “put data at the
  heart of our decision-making\, learning explicitly from the approach we h
 ave taken in responding to COVID-19”.</small></p>\n\n<p><small><strong>Pub
 lic Service Data.AI </strong>supports and strengthens the widespread commu
 nity within government that is faced with implementing these data-driven i
 nnovations. Through interactive content sessions\, roundtable discussions 
 and focused networking\, attendees benefit from cross-departmental insight
 s\, lessons learnt from real-life case studies and shared experiences of p
 eers facing similar challenges. </small><small>We look forward to welcomin
 g you to the event.</small></p>
BEGIN:VALARM
UID:30353462-3638-4861-a565-613337316362
ACTION:DISPLAY
DESCRIPTION:Brought to you by _Global Government Forum_ and co-hosted by HM
 G and the Government Digital Service\, PUBLIC SERVICE DATA.AI is a free-to
 -attend annual event for all civil servants responsible for advancing and 
 refining the use of data and Ai across government\, with the ultimate aim 
 of improving public services for all.\n\nGOVERNMENTS ACROSS THE GLOBE HAVE
  IDENTIFIED IMPROVED USE OF DATA AS KEY TO BETTER PUBLIC SERVICES.\nThe UK
  government’s Declaration on Government Reform – which aims to harness inn
 ovations form the coronavirus pandemic into day-to-day policy making – hig
 hlighted the need to “put data at the heart of our decision-making\, learn
 ing explicitly from the approach we have taken in responding to COVID-19”.
 \n\nPUBLIC SERVICE DATA.AI supports and strengthens the widespread communi
 ty within government that is faced with implementing these data-driven inn
 ovations. Through interactive content sessions\, roundtable discussions an
 d focused networking\, attendees benefit from cross-departmental insights\
 , lessons learnt from real-life case studies and shared experiences of pee
 rs facing similar challenges. We look forward to welcoming you to the even
 t.
TRIGGER:-PT15M
END:VALARM
END:VEVENT
END:VCALENDAR
