BEGIN:VCALENDAR
VERSION:2.0
PRODID:-//swoogo.com//NONSGML kigkonsult.se iCalcreator 2.41.90//
CALSCALE:GREGORIAN
UID:63623264-3634-4536-b865-643064373830
BEGIN:VEVENT
UID:d87dc2cdc00220f93f6749a15937b71c824ba259@swoogo.com
DTSTAMP:20260421T103943Z
DESCRIPTION:According to the new administration’s State of Digital Governme
 nt report\, more than a quarter of central government IT systems are class
 ified as “legacy” – meaning that they are “based on an end-of-life product
 \, out of support from the supplier\, impossible to update\, no longer cos
 t-effective\, or considered to be otherwise above the acceptable risk thre
 shold.”\n\nAs the report warns\, this presents huge risks – including vuln
 erability to cyber-attacks and to service failures – and drives up operati
 ng costs\, while blocking the introduction of advanced technologies such a
 s AI. “Legacy risk is not effectively managed across the public sector and
  impacts service delivery in an unsustainable manner\,” the report says.\n
 \nTo address these challenges and renew the government’s IT estate\, civil
  servants will need fresh investment\, proactive leadership\, and more inn
 ovative\, flexible solutions from technology suppliers. And to ensure that
  this renewed estate provides a firm foundation for new and emerging techn
 ologies\, they’ll need to carefully consider their digital standards\, pro
 cesses and architecture.\n\nThe panel of speakers includes DAVID KNOTT - G
 overnment Chief Technology Officer and other public sector digital leaders
  and industry experts.\n\nBringing together senior civil servants from acr
 oss government\, this Global Government Forum seminar – supported by NTT D
 ATA and Cisco – will explore the skills\, policies and resources required 
 to transform and replace legacy IT systems\, and debate the role of the di
 gital centre in supporting this crucial agenda.
DTSTART:20251017T090000Z
DTEND:20251017T123000Z
LAST-MODIFIED:20260421T103943Z
LOCATION:The Catalyst Newcastle\, 3 Science Square\, Newcastle Helix\, Newc
 astle NE4 5TG\, United Kingdom
SEQUENCE:0
STATUS:CONFIRMED
SUMMARY:Delivering the NHS 10 Year Plan in the North East
TRANSP:OPAQUE
X-ALT-DESC;FMTTYPE=text/html:<p>According to the new administration’s State
  of Digital Government report\, more than a quarter of central government 
 IT systems are classified as “legacy” – meaning that they are “based on an
  end-of-life product\, out of support from the supplier\, impossible to up
 date\, no longer cost-effective\, or considered to be otherwise above the 
 acceptable risk threshold.”</p>\n\n<p>As the report warns\, this presents 
 huge risks – including vulnerability to cyber-attacks and to service failu
 res – and drives up operating costs\, while blocking the introduction of a
 dvanced technologies such as AI. “Legacy risk is not effectively managed a
 cross the public sector and impacts service delivery in an unsustainable m
 anner\,” the report says.</p>\n\n<p>To address these challenges and renew 
 the government’s IT estate\, civil servants will need fresh investment\, p
 roactive leadership\, and more innovative\, flexible solutions from techno
 logy suppliers. And to ensure that this renewed estate provides a firm fou
 ndation for new and emerging technologies\, they’ll need to carefully cons
 ider their digital standards\, processes and architecture.<br />\n<br />\n
 The panel of speakers includes <strong>David Knott</strong> - Government C
 hief Technology Officer and other public sector digital leaders and indust
 ry experts.</p>\n\n<p>Bringing together senior civil servants from across 
 government\, this Global Government Forum seminar – supported by NTT DATA 
 and Cisco – will explore the skills\, policies and resources required to t
 ransform and replace legacy IT systems\, and debate the role of the digita
 l centre in supporting this crucial agenda.</p>
BEGIN:VALARM
UID:35323633-3939-4638-a434-663239356330
ACTION:DISPLAY
DESCRIPTION:According to the new administration’s State of Digital Governme
 nt report\, more than a quarter of central government IT systems are class
 ified as “legacy” – meaning that they are “based on an end-of-life product
 \, out of support from the supplier\, impossible to update\, no longer cos
 t-effective\, or considered to be otherwise above the acceptable risk thre
 shold.”\n\nAs the report warns\, this presents huge risks – including vuln
 erability to cyber-attacks and to service failures – and drives up operati
 ng costs\, while blocking the introduction of advanced technologies such a
 s AI. “Legacy risk is not effectively managed across the public sector and
  impacts service delivery in an unsustainable manner\,” the report says.\n
 \nTo address these challenges and renew the government’s IT estate\, civil
  servants will need fresh investment\, proactive leadership\, and more inn
 ovative\, flexible solutions from technology suppliers. And to ensure that
  this renewed estate provides a firm foundation for new and emerging techn
 ologies\, they’ll need to carefully consider their digital standards\, pro
 cesses and architecture.\n\nThe panel of speakers includes DAVID KNOTT - G
 overnment Chief Technology Officer and other public sector digital leaders
  and industry experts.\n\nBringing together senior civil servants from acr
 oss government\, this Global Government Forum seminar – supported by NTT D
 ATA and Cisco – will explore the skills\, policies and resources required 
 to transform and replace legacy IT systems\, and debate the role of the di
 gital centre in supporting this crucial agenda.
TRIGGER:-PT15M
END:VALARM
END:VEVENT
END:VCALENDAR
